BEGIN:VCALENDAR
VERSION:2.0
PRODID:-//EHPAD La Varenne - ECPv5.6.0//NONSGML v1.0//EN
CALSCALE:GREGORIAN
METHOD:PUBLISH
X-WR-CALNAME:EHPAD La Varenne
X-ORIGINAL-URL:http://ehpadlavarenne.fr
X-WR-CALDESC:évènements pour EHPAD La Varenne
BEGIN:VTIMEZONE
TZID:Europe/Paris
BEGIN:DAYLIGHT
TZOFFSETFROM:+0100
TZOFFSETTO:+0200
TZNAME:CEST
DTSTART:20220327T010000
END:DAYLIGHT
BEGIN:STANDARD
TZOFFSETFROM:+0200
TZOFFSETTO:+0100
TZNAME:CET
DTSTART:20221030T010000
END:STANDARD
END:VTIMEZONE
BEGIN:VEVENT
DTSTART;TZID=Europe/Paris:20220113T080000
DTEND;TZID=Europe/Paris:20220113T170000
DTSTAMP:20260423T191528
CREATED:20220107T160303Z
LAST-MODIFIED:20220107T160303Z
UID:3175-1642060800-1642093200@ehpadlavarenne.fr
SUMMARY:Les animations du 13/01/2022
DESCRIPTION:Loto musical \nBalade en campagne
URL:http://ehpadlavarenne.fr/event/les-animations-du-13-01-2022/
END:VEVENT
END:VCALENDAR