BEGIN:VCALENDAR
VERSION:2.0
PRODID:-//EHPAD La Varenne - ECPv5.6.0//NONSGML v1.0//EN
CALSCALE:GREGORIAN
METHOD:PUBLISH
X-WR-CALNAME:EHPAD La Varenne
X-ORIGINAL-URL:http://ehpadlavarenne.fr
X-WR-CALDESC:évènements pour EHPAD La Varenne
BEGIN:VTIMEZONE
TZID:Europe/Paris
BEGIN:DAYLIGHT
TZOFFSETFROM:+0100
TZOFFSETTO:+0200
TZNAME:CEST
DTSTART:20220327T010000
END:DAYLIGHT
BEGIN:STANDARD
TZOFFSETFROM:+0200
TZOFFSETTO:+0100
TZNAME:CET
DTSTART:20221030T010000
END:STANDARD
END:VTIMEZONE
BEGIN:VEVENT
DTSTART;TZID=Europe/Paris:20220225T080000
DTEND;TZID=Europe/Paris:20220225T170000
DTSTAMP:20260426T051222
CREATED:20220301T133945Z
LAST-MODIFIED:20220301T135509Z
UID:3304-1645776000-1645808400@ehpadlavarenne.fr
SUMMARY:Les animations du 25/02/2022
DESCRIPTION:Jeux de société \nAtelier mémoire musical \nMassage des mains
URL:http://ehpadlavarenne.fr/event/les-animations-du-25-02-2022/
END:VEVENT
END:VCALENDAR